BEGIN:VCALENDAR
VERSION:2.0
PRODID:-//eventon.com NONSGML v1.0//EN
CALSCALE:GREGORIAN
METHOD:PUBLISH
BEGIN:VEVENT
UID:69e5c7869adf0
DTSTAMP:20260420T062822Z
DTSTART:20210506T000000Z
DTEND:20210506T020000Z
LOCATION:Roughtail Brewing Company 320 W. Memorial Rd.\,  Oklahoma City\,  OK 73114
SUMMARY:OUR FINAL NIGHT OF SINGO - Wednesday Night @ 7pm
DESCRIPTION:SINGO hosted by our friends at BTP Productions. 7-9pm! Four rou
 nds\,  four chances to win and frequent new beer releases. THIS WILL BE OUR
  FINAL NIGHT OF SINGO! BRING THE CREW AND HAVE SOME FUN!\nhttps://roughtail
 beer.com/events/singo/
URL:https://roughtailbeer.com/events/singo/
END:VEVENT
END:VCALENDAR