BEGIN:VCALENDAR
VERSION:2.0
PRODID:-//eventon.com NONSGML v1.0//EN
CALSCALE:GREGORIAN
METHOD:PUBLISH
BEGIN:VEVENT
UID:69e5b41419c47
DTSTAMP:20260420T050524Z
DTSTART:20220127T010000Z
DTEND:20220127T030000Z
LOCATION:Roughtail Brewing Company 320 W. Memorial Rd.\,  Oklahoma City\,  OK 73114
SUMMARY:OUR FINAL NIGHT OF SINGO - Wednesday Night @ 7pm
DESCRIPTION:SINGO hosted by our friends at BTP Productions. 7-9pm! Four rou
 nds\,  four chances to win and frequent new beer releases. THIS WILL BE OUR
  FINAL NIGHT OF SINGO! BRING THE CREW AND HAVE SOME FUN!\nhttps://roughtail
 beer.com/events/singo/var/ri-38.l-L1
URL:https://roughtailbeer.com/events/singo/var/ri-38.l-L1
END:VEVENT
END:VCALENDAR