BEGIN:VCALENDAR
VERSION:2.0
PRODID:-//eventon.com NONSGML v1.0//EN
CALSCALE:GREGORIAN
METHOD:PUBLISH
BEGIN:VEVENT
UID:69e8a54bc9398
DTSTAMP:20260422T103907Z
DTSTART:20210618T000000Z
DTEND:20210618T020000Z
LOCATION:
SUMMARY:Pint Night @ False Idol
DESCRIPTION:Pint Night @ False Idol\nhttps://roughtailbeer.com/events/pint-
 night-false-idol/
URL:https://roughtailbeer.com/events/pint-night-false-idol/
END:VEVENT
END:VCALENDAR