BEGIN:VCALENDAR
VERSION:2.0
PRODID:-//eventon.com NONSGML v1.0//EN
CALSCALE:GREGORIAN
METHOD:PUBLISH
BEGIN:VEVENT
UID:69e8a626682b5
DTSTAMP:20260422T104246Z
DTSTART:20210814T070000Z
DTEND:20210814T120000Z
LOCATION:
SUMMARY:Mijos Tacos | Food Truck
DESCRIPTION:Servin&#8217; up some of the best authentic street tacos in OKC
 !\nhttps://roughtailbeer.com/events/mijos-taqueria-food-truck-2/
URL:https://roughtailbeer.com/events/mijos-taqueria-food-truck-2/
END:VEVENT
END:VCALENDAR