BEGIN:VCALENDAR
VERSION:2.0
PRODID:-//eventon.com NONSGML v1.0//EN
CALSCALE:GREGORIAN
METHOD:PUBLISH
BEGIN:VEVENT
UID:69e8a6d259c0b
DTSTAMP:20260422T104538Z
DTSTART:20211209T220000Z
DTEND:20211210T040000Z
LOCATION:
SUMMARY:Special Release - Power Word: Citra DIPA
DESCRIPTION:Introducing Power Word: Citra\,  our final limited release hazy
  IPA of 2021. Available on draft and in 16oz 4packs to go. Join us for the 
 release and stick around for Trivia at 7pm! The BeetBox will be on site fro
 m 4-8pm\,  serving up the best plant-based chicken sandwiches in OKC[..]\nh
 ttps://roughtailbeer.com/events/special-release-power-word-citra-dipa/
URL:https://roughtailbeer.com/events/special-release-power-word-citra-dipa/
END:VEVENT
END:VCALENDAR