BEGIN:VCALENDAR
VERSION:2.0
PRODID:-//eventon.com NONSGML v1.0//EN
CALSCALE:GREGORIAN
METHOD:PUBLISH
BEGIN:VEVENT
UID:69e8921a10bde
DTSTAMP:20260422T091714Z
DTSTART:20240811T003000Z
DTEND:20240811T023000Z
LOCATION:Roughtail Brewing Company 320 W. Memorial Rd.\,  Oklahoma City\,  OK 73114
SUMMARY:Nick Campbell Comedy Show at Roughtail!
DESCRIPTION:Rough and Ready Comedy Show at Roughtail Brewing Saturday Augus
 t 10th 6:30 Doors\,  Show 7:30. Tickets are $10 in advance and $15 at the d
 oor. Ticket Link Attached. &nbsp;\nhttps://roughtailbeer.com/events/nick-ca
 mpbell-comedy-show-at-roughtail/
URL:https://roughtailbeer.com/events/nick-campbell-comedy-show-at-roughtail/
END:VEVENT
END:VCALENDAR