BEGIN:VCALENDAR
VERSION:2.0
PRODID:-//eventon.com NONSGML v1.0//EN
CALSCALE:GREGORIAN
METHOD:PUBLISH
BEGIN:VEVENT
UID:69ea125675732
DTSTAMP:20260423T123638Z
DTSTART:20260425T160000Z
DTEND:20260425T190000Z
LOCATION:Roughtail Brewing Company 320 W. Memorial Rd.\,  Oklahoma City\,  OK 73114
SUMMARY:Independent Bookstore Weekend!
DESCRIPTION:Book Truck Pop Up with Author Signing 11 AM- 2 PM with OnlyOneB
 ed Book Truck!\nhttps://roughtailbeer.com/events/independent-bookstore-week
 end/
URL:https://roughtailbeer.com/events/independent-bookstore-weekend/
END:VEVENT
END:VCALENDAR